BEGIN:VCALENDAR
VERSION:2.0
PRODID:-//Washington County Republican Club - ECPv6.15.20//NONSGML v1.0//EN
CALSCALE:GREGORIAN
METHOD:PUBLISH
X-WR-CALNAME:Washington County Republican Club
X-ORIGINAL-URL:https://wcrclub.com
X-WR-CALDESC:Events for Washington County Republican Club
REFRESH-INTERVAL;VALUE=DURATION:PT1H
X-Robots-Tag:noindex
X-PUBLISHED-TTL:PT1H
BEGIN:VTIMEZONE
TZID:America/New_York
BEGIN:DAYLIGHT
TZOFFSETFROM:-0500
TZOFFSETTO:-0400
TZNAME:EDT
DTSTART:20240310T070000
END:DAYLIGHT
BEGIN:STANDARD
TZOFFSETFROM:-0400
TZOFFSETTO:-0500
TZNAME:EST
DTSTART:20241103T060000
END:STANDARD
BEGIN:DAYLIGHT
TZOFFSETFROM:-0500
TZOFFSETTO:-0400
TZNAME:EDT
DTSTART:20250309T070000
END:DAYLIGHT
BEGIN:STANDARD
TZOFFSETFROM:-0400
TZOFFSETTO:-0500
TZNAME:EST
DTSTART:20251102T060000
END:STANDARD
BEGIN:DAYLIGHT
TZOFFSETFROM:-0500
TZOFFSETTO:-0400
TZNAME:EDT
DTSTART:20260308T070000
END:DAYLIGHT
BEGIN:STANDARD
TZOFFSETFROM:-0400
TZOFFSETTO:-0500
TZNAME:EST
DTSTART:20261101T060000
END:STANDARD
END:VTIMEZONE
BEGIN:VEVENT
DTSTART;TZID=America/New_York:20251011T120000
DTEND;TZID=America/New_York:20251011T170000
DTSTAMP:20260424T195214
CREATED:20250907T221719Z
LAST-MODIFIED:20251010T175806Z
UID:788-1760184000-1760202000@wcrclub.com
SUMMARY:CANCELLED - Annual Family Picnic
DESCRIPTION: 
URL:https://wcrclub.com/event/annual-family-picnic/
LOCATION:Potomac Fish & Game Club\, 14241 Falling Waters Rd\, Williamsport\, MD\, 21795\, United States
ATTACH;FMTTYPE=image/png:https://wcrclub.com/wp-content/uploads/2025/09/WCRC-2025-Picnic.png
END:VEVENT
END:VCALENDAR