BEGIN:VCALENDAR
VERSION:2.0
PRODID:-//Washington County Republican Club - ECPv6.15.20//NONSGML v1.0//EN
CALSCALE:GREGORIAN
METHOD:PUBLISH
X-WR-CALNAME:Washington County Republican Club
X-ORIGINAL-URL:https://wcrclub.com
X-WR-CALDESC:Events for Washington County Republican Club
REFRESH-INTERVAL;VALUE=DURATION:PT1H
X-Robots-Tag:noindex
X-PUBLISHED-TTL:PT1H
BEGIN:VTIMEZONE
TZID:America/New_York
BEGIN:DAYLIGHT
TZOFFSETFROM:-0500
TZOFFSETTO:-0400
TZNAME:EDT
DTSTART:20240310T070000
END:DAYLIGHT
BEGIN:STANDARD
TZOFFSETFROM:-0400
TZOFFSETTO:-0500
TZNAME:EST
DTSTART:20241103T060000
END:STANDARD
BEGIN:DAYLIGHT
TZOFFSETFROM:-0500
TZOFFSETTO:-0400
TZNAME:EDT
DTSTART:20250309T070000
END:DAYLIGHT
BEGIN:STANDARD
TZOFFSETFROM:-0400
TZOFFSETTO:-0500
TZNAME:EST
DTSTART:20251102T060000
END:STANDARD
BEGIN:DAYLIGHT
TZOFFSETFROM:-0500
TZOFFSETTO:-0400
TZNAME:EDT
DTSTART:20260308T070000
END:DAYLIGHT
BEGIN:STANDARD
TZOFFSETFROM:-0400
TZOFFSETTO:-0500
TZNAME:EST
DTSTART:20261101T060000
END:STANDARD
END:VTIMEZONE
BEGIN:VEVENT
DTSTART;TZID=America/New_York:20250123T183000
DTEND;TZID=America/New_York:20250123T203000
DTSTAMP:20260425T150855
CREATED:20250117T171742Z
LAST-MODIFIED:20250117T171912Z
UID:715-1737657000-1737664200@wcrclub.com
SUMMARY:January Meeting
DESCRIPTION:It’s a new year and time to take care of business. We will be discussing all the exciting things coming up this year. Our nominating committee will present candidates for next month’s officer elections. The President will present the 2025 budget.\nIt is also time to pay annual dues. $35 per couple\, $25 individual\, and $10 student.
URL:https://wcrclub.com/event/january-meeting-2/
LOCATION:Williamsport American Legion\, 400 American Legion Drive\, Williamsport\, MD\, 21795\, United States
CATEGORIES:Monthly Meeting
ATTACH;FMTTYPE=image/png:https://wcrclub.com/wp-content/uploads/2025/01/Monthly-Meeting-Williamsport-American-Legion.png
END:VEVENT
END:VCALENDAR