BEGIN:VCALENDAR
VERSION:2.0
PRODID:-//Washington County Republican Club - ECPv6.15.20//NONSGML v1.0//EN
CALSCALE:GREGORIAN
METHOD:PUBLISH
X-ORIGINAL-URL:https://wcrclub.com
X-WR-CALDESC:Events for Washington County Republican Club
REFRESH-INTERVAL;VALUE=DURATION:PT1H
X-Robots-Tag:noindex
X-PUBLISHED-TTL:PT1H
BEGIN:VTIMEZONE
TZID:America/New_York
BEGIN:DAYLIGHT
TZOFFSETFROM:-0500
TZOFFSETTO:-0400
TZNAME:EDT
DTSTART:20240310T070000
END:DAYLIGHT
BEGIN:STANDARD
TZOFFSETFROM:-0400
TZOFFSETTO:-0500
TZNAME:EST
DTSTART:20241103T060000
END:STANDARD
BEGIN:DAYLIGHT
TZOFFSETFROM:-0500
TZOFFSETTO:-0400
TZNAME:EDT
DTSTART:20250309T070000
END:DAYLIGHT
BEGIN:STANDARD
TZOFFSETFROM:-0400
TZOFFSETTO:-0500
TZNAME:EST
DTSTART:20251102T060000
END:STANDARD
BEGIN:DAYLIGHT
TZOFFSETFROM:-0500
TZOFFSETTO:-0400
TZNAME:EDT
DTSTART:20260308T070000
END:DAYLIGHT
BEGIN:STANDARD
TZOFFSETFROM:-0400
TZOFFSETTO:-0500
TZNAME:EST
DTSTART:20261101T060000
END:STANDARD
BEGIN:DAYLIGHT
TZOFFSETFROM:-0500
TZOFFSETTO:-0400
TZNAME:EDT
DTSTART:20270314T070000
END:DAYLIGHT
BEGIN:STANDARD
TZOFFSETFROM:-0400
TZOFFSETTO:-0500
TZNAME:EST
DTSTART:20271107T060000
END:STANDARD
END:VTIMEZONE
BEGIN:VEVENT
DTSTART;TZID=America/New_York:20250925T183000
DTEND;TZID=America/New_York:20250925T203000
DTSTAMP:20260425T071046
CREATED:20250925T194619Z
LAST-MODIFIED:20250925T194619Z
UID:799-1758825000-1758832200@wcrclub.com
SUMMARY:September 2025 Monthly Meeting
DESCRIPTION:
URL:https://wcrclub.com/event/september-2025-monthly-meeting/
LOCATION:Williamsport American Legion\, 400 American Legion Drive\, Williamsport\, MD\, 21795\, United States
ATTACH;FMTTYPE=image/png:https://wcrclub.com/wp-content/uploads/2025/01/Monthly-Meeting-Williamsport-American-Legion.png
END:VEVENT
BEGIN:VEVENT
DTSTART;TZID=America/New_York:20251011T120000
DTEND;TZID=America/New_York:20251011T170000
DTSTAMP:20260425T071046
CREATED:20250907T221719Z
LAST-MODIFIED:20251010T175806Z
UID:788-1760184000-1760202000@wcrclub.com
SUMMARY:CANCELLED - Annual Family Picnic
DESCRIPTION: 
URL:https://wcrclub.com/event/annual-family-picnic/
LOCATION:Potomac Fish & Game Club\, 14241 Falling Waters Rd\, Williamsport\, MD\, 21795\, United States
ATTACH;FMTTYPE=image/png:https://wcrclub.com/wp-content/uploads/2025/09/WCRC-2025-Picnic.png
END:VEVENT
BEGIN:VEVENT
DTSTART;TZID=America/New_York:20251120T183000
DTEND;TZID=America/New_York:20251120T203000
DTSTAMP:20260425T071046
CREATED:20251119T032025Z
LAST-MODIFIED:20251119T032025Z
UID:811-1763663400-1763670600@wcrclub.com
SUMMARY:November 2025 Meeting
DESCRIPTION:Join Us for an Inspiring Evening of Conservative Ideas & Community!\nCalling all patriots\, friends\, and neighbors! The Washington County Republican Club invites YOU to our November meeting — an evening of fellowship\, action\, and motivation as we work together to protect our freedoms and strengthen our community.\nSpecial Guest Speaker: Mr. Tom NeumarkWe’re honored to welcome Tom Neumark\, a respected conservative voice and leader in education reform right here in Maryland.Tom is the founder of Frederick Classical Charter School\, one of Maryland’s most successful charter schools. He’s been a driving force for parental choice\, accountability\, and academic excellence in education — helping to empower families and improve outcomes for students.A lifelong advocate for civic involvement\, Tom has also trained teachers in computer science instruction\, written on education policy\, and served as a strong voice for common-sense\, community-centered reform.He holds a B.S. in Computer Science from West Virginia Wesleyan College and a Master’s in Computer Science from Johns Hopkins University. His work continues to inspire citizens to take an active role in shaping Maryland’s educational future and defending conservative values in public life.Why You Should Come?Hear a powerful message from a proven conservative leaderConnect with like-minded patriots and community membersLearn how YOU can make a difference in local politics and educationEnjoy great fellowship\, refreshments\, and open discussion\nEveryone Is Welcome!Members\, guests\, and first-time visitors — all are encouraged to attend. Bring a friend\, a neighbor\, or your family!Let’s fill the hall and show that Washington County conservatives are strong\, united\, and ready to make an impact.
URL:https://wcrclub.com/event/november-2025-meeting/
LOCATION:Williamsport American Legion\, 400 American Legion Drive\, Williamsport\, MD\, 21795\, United States
ATTACH;FMTTYPE=image/jpeg:https://wcrclub.com/wp-content/uploads/2025/11/581639365_4195694404051754_4033571432759514969_n.jpg
END:VEVENT
BEGIN:VEVENT
DTSTART;TZID=America/New_York:20260120T183000
DTEND;TZID=America/New_York:20260120T203000
DTSTAMP:20260425T071046
CREATED:20260108T231923Z
LAST-MODIFIED:20260110T023549Z
UID:817-1768933800-1768941000@wcrclub.com
SUMMARY:January Meeting **TUESDAY the 20th**
DESCRIPTION:We will be meeting TUESDAY\, January 20th. We’re starting the new year off with a bang! We will be touring First Breach\, a local ammunition manufacturer located at Hagerstown Regional Airport. We will get an introduction to their new drone production facility in the same building that Fairchild built the legendary A-10 Warthog. We will also have the nomination for our club’s next vice president\, announcements for our 2026 candidate forums\, and a sign-up to volunteer to work our booth at the Annual Home Show. This is going to be a great year for the Republican Party in Washington County! \nRead more about First Breach in American Rifleman. \nAs a reminder\, membership dues run on a calendar year and are due each January. You can pay at the meeting or online at dues.wcrclub.com.
URL:https://wcrclub.com/event/january-meeting-tuesday-the-20th/
LOCATION:First Breach\, 18450 Showalter Rd\, Hagerstown\, MD\, 21742
ATTACH;FMTTYPE=image/png:https://wcrclub.com/wp-content/uploads/2026/01/First-Breach.png
END:VEVENT
BEGIN:VEVENT
DTSTART;TZID=America/New_York:20260226T183000
DTEND;TZID=America/New_York:20260226T203000
DTSTAMP:20260425T071046
CREATED:20260214T182118Z
LAST-MODIFIED:20260214T182118Z
UID:832-1772130600-1772137800@wcrclub.com
SUMMARY:Sheriff Showdown | February 2026 Meeting
DESCRIPTION:🚔 SHERIFF SHOWDOWN 2026 🚔 \nThe Washington County Republican Club invites you to our first 2026 Candidate Debate for Sheriff of Washington County. \nJoin us as incumbent Sheriff Brian Albert and challenger Chuckie Johnson take the stage to share their vision\, priorities\, and plans for keeping our county safe. \nBoth candidates are Republicans\, and as a club we will not endorse in the primary. Our goal is simple: give voters the opportunity to hear directly from the candidates and make an informed decision. \nThis is your chance to:\n• Compare positions• Ask questions• Get informed before you vote \nAn informed Republican electorate makes a stronger party and a stronger Washington County. \nDon’t miss the Sheriff Showdown.
URL:https://wcrclub.com/event/sheriff-showdown/
LOCATION:Williamsport American Legion\, 400 American Legion Drive\, Williamsport\, MD\, 21795\, United States
ATTACH;FMTTYPE=image/png:https://wcrclub.com/wp-content/uploads/2026/02/sheriff-showdown-2026.png
END:VEVENT
BEGIN:VEVENT
DTSTART;TZID=America/New_York:20260326T183000
DTEND;TZID=America/New_York:20260326T203000
DTSTAMP:20260425T071046
CREATED:20260323T104547Z
LAST-MODIFIED:20260323T185632Z
UID:838-1774549800-1774557000@wcrclub.com
SUMMARY:March Meeting
DESCRIPTION:We will hear from State’s Attorney Candidate Adam Greivell\, discuss the annual picnic and future events\, as well as have voter registration training by the Board of Elections. \nNOTE: This we was originally scheduled as a debate\, however\, our current State’s Attorney Gina Cirincion\, has a scheduling conflict. She will be invited to present at a future meeting.
URL:https://wcrclub.com/event/march2026/
LOCATION:Williamsport American Legion\, 400 American Legion Drive\, Williamsport\, MD\, 21795\, United States
ATTACH;FMTTYPE=image/png:https://wcrclub.com/wp-content/uploads/2025/01/Monthly-Meeting-Williamsport-American-Legion.png
END:VEVENT
END:VCALENDAR