BEGIN:VCALENDAR
VERSION:2.0
PRODID:-//Washington County Republican Club - ECPv6.15.20//NONSGML v1.0//EN
CALSCALE:GREGORIAN
METHOD:PUBLISH
X-ORIGINAL-URL:https://wcrclub.com
X-WR-CALDESC:Events for Washington County Republican Club
REFRESH-INTERVAL;VALUE=DURATION:PT1H
X-Robots-Tag:noindex
X-PUBLISHED-TTL:PT1H
BEGIN:VTIMEZONE
TZID:America/New_York
BEGIN:DAYLIGHT
TZOFFSETFROM:-0500
TZOFFSETTO:-0400
TZNAME:EDT
DTSTART:20250309T070000
END:DAYLIGHT
BEGIN:STANDARD
TZOFFSETFROM:-0400
TZOFFSETTO:-0500
TZNAME:EST
DTSTART:20251102T060000
END:STANDARD
BEGIN:DAYLIGHT
TZOFFSETFROM:-0500
TZOFFSETTO:-0400
TZNAME:EDT
DTSTART:20260308T070000
END:DAYLIGHT
BEGIN:STANDARD
TZOFFSETFROM:-0400
TZOFFSETTO:-0500
TZNAME:EST
DTSTART:20261101T060000
END:STANDARD
BEGIN:DAYLIGHT
TZOFFSETFROM:-0500
TZOFFSETTO:-0400
TZNAME:EDT
DTSTART:20270314T070000
END:DAYLIGHT
BEGIN:STANDARD
TZOFFSETFROM:-0400
TZOFFSETTO:-0500
TZNAME:EST
DTSTART:20271107T060000
END:STANDARD
END:VTIMEZONE
BEGIN:VEVENT
DTSTART;TZID=America/New_York:20260326T183000
DTEND;TZID=America/New_York:20260326T203000
DTSTAMP:20260425T072311
CREATED:20260323T104547Z
LAST-MODIFIED:20260323T185632Z
UID:838-1774549800-1774557000@wcrclub.com
SUMMARY:March Meeting
DESCRIPTION:We will hear from State’s Attorney Candidate Adam Greivell\, discuss the annual picnic and future events\, as well as have voter registration training by the Board of Elections. \nNOTE: This we was originally scheduled as a debate\, however\, our current State’s Attorney Gina Cirincion\, has a scheduling conflict. She will be invited to present at a future meeting.
URL:https://wcrclub.com/event/march2026/
LOCATION:Williamsport American Legion\, 400 American Legion Drive\, Williamsport\, MD\, 21795\, United States
ATTACH;FMTTYPE=image/png:https://wcrclub.com/wp-content/uploads/2025/01/Monthly-Meeting-Williamsport-American-Legion.png
END:VEVENT
END:VCALENDAR