BEGIN:VCALENDAR
VERSION:2.0
PRODID:-//Washington County Republican Club - ECPv6.15.20//NONSGML v1.0//EN
CALSCALE:GREGORIAN
METHOD:PUBLISH
X-WR-CALNAME:Washington County Republican Club
X-ORIGINAL-URL:https://wcrclub.com
X-WR-CALDESC:Events for Washington County Republican Club
REFRESH-INTERVAL;VALUE=DURATION:PT1H
X-Robots-Tag:noindex
X-PUBLISHED-TTL:PT1H
BEGIN:VTIMEZONE
TZID:America/New_York
BEGIN:DAYLIGHT
TZOFFSETFROM:-0500
TZOFFSETTO:-0400
TZNAME:EDT
DTSTART:20220313T070000
END:DAYLIGHT
BEGIN:STANDARD
TZOFFSETFROM:-0400
TZOFFSETTO:-0500
TZNAME:EST
DTSTART:20221106T060000
END:STANDARD
BEGIN:DAYLIGHT
TZOFFSETFROM:-0500
TZOFFSETTO:-0400
TZNAME:EDT
DTSTART:20230312T070000
END:DAYLIGHT
BEGIN:STANDARD
TZOFFSETFROM:-0400
TZOFFSETTO:-0500
TZNAME:EST
DTSTART:20231105T060000
END:STANDARD
BEGIN:DAYLIGHT
TZOFFSETFROM:-0500
TZOFFSETTO:-0400
TZNAME:EDT
DTSTART:20240310T070000
END:DAYLIGHT
BEGIN:STANDARD
TZOFFSETFROM:-0400
TZOFFSETTO:-0500
TZNAME:EST
DTSTART:20241103T060000
END:STANDARD
END:VTIMEZONE
BEGIN:VEVENT
DTSTART;TZID=America/New_York:20231115T183000
DTEND;TZID=America/New_York:20231115T210000
DTSTAMP:20260425T122605
CREATED:20231107T235741Z
LAST-MODIFIED:20231107T235741Z
UID:552-1700073000-1700082000@wcrclub.com
SUMMARY:Police State | Movie Night & Monthly Meeting
DESCRIPTION:Join us Wednesday\, November 15th for a showing of the new movie Police State.
URL:https://wcrclub.com/event/police-state-movie-night-monthly-meeting/
LOCATION:Williamsport American Legion\, 400 American Legion Drive\, Williamsport\, MD\, 21795\, United States
ATTACH;FMTTYPE=image/png:https://wcrclub.com/wp-content/uploads/2023/11/Police-State-Movie-Night.png
END:VEVENT
BEGIN:VEVENT
DTSTART;TZID=America/New_York:20231021T130000
DTEND;TZID=America/New_York:20231021T150000
DTSTAMP:20260425T122605
CREATED:20230923T022920Z
LAST-MODIFIED:20230927T015127Z
UID:538-1697893200-1697900400@wcrclub.com
SUMMARY:Speaker Newt Gingrich - Meet & Greet
DESCRIPTION:We will be hosting Speaker Newt Gingrich at Hagerstown Community College’s Kepler Theater. Newt served as the 50th Speaker of the United States House of Representatives from 1995-1999. Don’t miss your opportunity to meet this great American patriot and get a signed copy of his book\, March To The Majority. \nPurchase of ticket includes admission\, signed book\, and light snacks. Cash bar available.
URL:https://wcrclub.com/event/speaker-newt-gingrich-meet-greet/
LOCATION:Kepler Theater\, 11512 Kepler Drive\, Hagerstown\, MD\, 21742\, United States
ATTACH;FMTTYPE=image/png:https://wcrclub.com/wp-content/uploads/2023/09/Speaker-1200-×-628-px.png
END:VEVENT
BEGIN:VEVENT
DTSTART;TZID=America/New_York:20231015T120000
DTEND;TZID=America/New_York:20231015T170000
DTSTAMP:20260425T122605
CREATED:20230906T181326Z
LAST-MODIFIED:20230906T181326Z
UID:518-1697371200-1697389200@wcrclub.com
SUMMARY:Rocktober Music Fest
DESCRIPTION:Come out to Rocktober Music Fest – Live from Antietam Brewery. The MC will be Don Jamieson. At 1pm Never Never will take the stage followed by Stone Horses at 3:15. This is a free event but we will be collecting donations at the gate for Breast Cancer Awareness\, Inc. Donations are appreciated but not expected. \nThis event has been organized by the Washington County Republican Club’s Political Action Committee. This is not a political event\, however\, we will have volunteers on site to get you registered to vote. \n  \nBy Authority of the Washington County Republican Club PAC\, John T. McElroy\, Treasurer
URL:https://wcrclub.com/event/rocktober-music-fest/
LOCATION:Antietam Brewery\, 140 Western Maryland Pkwy\, Hagerstown\, MD\, 21740\, United States
ATTACH;FMTTYPE=image/png:https://wcrclub.com/wp-content/uploads/2023/09/Rocktober-Fb-Event-Cover.png
END:VEVENT
BEGIN:VEVENT
DTSTART;TZID=America/New_York:20230927T183000
DTEND;TZID=America/New_York:20230927T203000
DTSTAMP:20260425T122605
CREATED:20230902T191117Z
LAST-MODIFIED:20230902T191117Z
UID:494-1695839400-1695846600@wcrclub.com
SUMMARY:September Meeting - WANTED: Non-Voting Republicans
DESCRIPTION:Join us at our September meeting as we discuss how to reach and capture the votes of the 18\,000 Washington County Republicans that didn’t vote in the last election. Republicans who don’t vote elect democrats and we need to fix this problem. Please spread the word about this important meeting.
URL:https://wcrclub.com/event/september-meeting-wanted-non-voting-republicans/
LOCATION:Williamsport American Legion\, 400 American Legion Drive\, Williamsport\, MD\, 21795\, United States
ATTACH;FMTTYPE=image/png:https://wcrclub.com/wp-content/uploads/2023/09/Fb-Event-Covers-1200-×-628-px.png
END:VEVENT
BEGIN:VEVENT
DTSTART;TZID=America/New_York:20230823T190000
DTEND;TZID=America/New_York:20230823T220000
DTSTAMP:20260425T122605
CREATED:20230816T184114Z
LAST-MODIFIED:20230816T184114Z
UID:490-1692817200-1692828000@wcrclub.com
SUMMARY:WATCH PARTY | First Republican Presidential Debate 2024
DESCRIPTION:The 2024 Election Season is upon us! It’s time for the first Republican Presidential Debate of this election cycle. \nAt this lively watch party\, you’ll be surrounded by fellow engaged citizens eager to stay informed and make a difference. Being an informed voter is not just a privilege\, but a responsibility we take seriously. Join us as we delve into the discussions\, dissect the policies\, and gain insights into the candidates’ visions for our nation’s future. \nWe are holding this event at one of our club’s longtime sponsors\, the Colonial Bar & Grill. Please come out and show them the same support they show us. The food is delicious\, the beer is cold\, you can’t go wrong!
URL:https://wcrclub.com/event/watch-party-first-republican-presidential-debate-2024/
LOCATION:Colonial Bar & Grill\, 14130 Pennsylvania Ave\, Hagerstown\, MD\, 21742\, United States
ATTACH;FMTTYPE=image/png:https://wcrclub.com/wp-content/uploads/2023/08/WCRC-Presidential-Debate-1200-×-628-px.png
END:VEVENT
BEGIN:VEVENT
DTSTART;TZID=America/New_York:20230822T183000
DTEND;TZID=America/New_York:20230822T203000
DTSTAMP:20260425T122605
CREATED:20230808T011230Z
LAST-MODIFIED:20230808T011459Z
UID:465-1692729000-1692736200@wcrclub.com
SUMMARY:Personal Safety Training - An Evening for Your Well-being!
DESCRIPTION:On Tuesday\, August 22nd\, we will be taking a break from our usual political discussions to dedicate an evening solely to personal safety training. This event is open to the public\, and we want to extend a warm invitation to you and your loved ones to attend.\nPlease note that this is not a political event\, and there will be no mention of political activities or recognition of elected officials or candidates. Instead\, we have gathered public safety professionals to offer you valuable training in several crucial areas:\n\n– Civilian Response to an Active Shooter Event (CRASE)\n– Threat Reduction Training (TRT)\n– Crime Prevention Through Environmental Design (CPTED)\n– Residential Target Hardening / Residential Crime Prevention\n– Home Defense Planning / Family Safety and Surety Planning\n\nThe event will take place at the Washington County Public Safety Training Center. We are also considering live-streaming the classes to benefit those who are unable to attend in person.\n\nThis training session is designed with your safety and security in mind. It’s our way of giving back to the community and providing you with valuable knowledge to help keep you and your loved ones safe. Personal safety is a shared responsibility\, and together\, we can build a safer and more secure environment for all residents of Washington County.\n\nWe genuinely hope you can join us for this essential and informative evening. Your participation will contribute to the collective well-being of our community. Mark your calendars for August 22nd and be prepared to empower yourself with the tools and information you need to stay safe.\n\nThe Washington County Public Safety Training Center is located off Sharpsburg Pike at:\n18350 Public Safety Pl\, Hagerstown\, MD 21740\n\nWe look forward to seeing you there! Should you have any questions or need further information\, please feel free to reach out to us.\n\nStay safe and see you soon!
URL:https://wcrclub.com/event/personal-safety-training-an-evening-for-your-well-being/
LOCATION:Washington County Public Safety Training Center\, 18350 Public Safety Pl\, Hagerstown\, MD\, 21740\, United States
ATTACH;FMTTYPE=image/png:https://wcrclub.com/wp-content/uploads/2023/08/Personal-Safety-Training.png
END:VEVENT
BEGIN:VEVENT
DTSTART;TZID=America/New_York:20230715T130000
DTEND;TZID=America/New_York:20230715T190000
DTSTAMP:20260425T122605
CREATED:20230605T172815Z
LAST-MODIFIED:20230620T154210Z
UID:339-1689426000-1689447600@wcrclub.com
SUMMARY:Annual Picnic
DESCRIPTION:Our annual club picnic will once again be at the Potomac Fish & Game Club in Williamsport. As always\, this event is open to everyone (members and non-members) all you have to do is buy a ticket using the button below. \nThis is a family friendly event so please bring the kids. \nMore information available on our Picnic page. The button below will take you to our Stripe checkout page where you can buy tickets.
URL:https://wcrclub.com/event/annual-picnic/
LOCATION:Potomac Fish & Game Club\, 14241 Falling Waters Rd\, Williamsport\, MD\, 21795\, United States
ATTACH;FMTTYPE=image/png:https://wcrclub.com/wp-content/uploads/2023/05/Picnic-2023.png
END:VEVENT
BEGIN:VEVENT
DTSTART;TZID=America/New_York:20230621T183000
DTEND;TZID=America/New_York:20230621T203000
DTSTAMP:20260425T122605
CREATED:20230531T171846Z
LAST-MODIFIED:20230531T171846Z
UID:316-1687372200-1687379400@wcrclub.com
SUMMARY:June Monthly Meeting
DESCRIPTION:Join us on June 21st to learn the latest about voter integrity and precinct organization. This information will be presented by Mrs. Patty Price. \nDinner is served by hot bar\, menu\, and cash bar. Multiple door prizes available.
URL:https://wcrclub.com/event/june-monthly-meeting/
LOCATION:North American Rod & Gun Club\, 12108 Belvedere Rd.\, Hagerstown\, MD\, 21742\, United States
ATTACH;FMTTYPE=image/png:https://wcrclub.com/wp-content/uploads/2023/05/june-2023-meeting.png
END:VEVENT
BEGIN:VEVENT
DTSTART;TZID=America/New_York:20230524T183000
DTEND;TZID=America/New_York:20230524T210000
DTSTAMP:20260425T122605
CREATED:20230509T193212Z
LAST-MODIFIED:20230509T193212Z
UID:238-1684953000-1684962000@wcrclub.com
SUMMARY:WCRC May Meeting - featuring Berney Flowers
DESCRIPTION:Join us at the North American Rod & Gun Club to hear from one of Maryland’s great patriots and author of Black Values Matter\, Berney Flowers. \nBerney ran for US Congress in Maryland’s 2nd District. He was assigned to the US Air Force’s “Air Staff” as the Pentagon was attacked on Sept 11\, 2001. He retired from the US Air Force after nearly 21 years of active duty\, having deployed to Iraq\, Afghanistan\, Ukraine\, and “visiting” twenty-two countries and forty-three states in the performance of his duties. After his Air Force retirement\, Berney worked as a project manager in the banking industry. In 2009\, he returned to DoD as a civil servant\, where he was part of USCYBERCOM’S initial staff. He later served as NORAD & USNORTHCOM’s Senior Technical Advisor at Fort Meade. Before retiring from DoD\, he participated in refugee resettlement efforts for Afghans\, Haitians\, and undocumented migrants in defense of the US Southwest Border. In 2021\, Maryland’s Governor appointed him to the District 9 Judicial Nominating Commission\, Howard County Maryland. He recently authored the new book\, “Black Values Matter”.
URL:https://wcrclub.com/event/wcrc-may-meeting-featuring-berney-flowers/
LOCATION:North American Rod & Gun Club\, 12108 Belvedere Rd.\, Hagerstown\, MD\, 21742\, United States
CATEGORIES:Monthly Meeting
ATTACH;FMTTYPE=image/jpeg:https://wcrclub.com/wp-content/uploads/2023/05/black-values-matter.jpeg
END:VEVENT
BEGIN:VEVENT
DTSTART;TZID=America/New_York:20230519T160000
DTEND;TZID=America/New_York:20230519T180000
DTSTAMP:20260425T122605
CREATED:20230510T202437Z
LAST-MODIFIED:20230510T202437Z
UID:248-1684512000-1684519200@wcrclub.com
SUMMARY:Conservative Cocktails (Happy Hour)
DESCRIPTION:Looking for a fun and exciting way to get involved in politics? Look no further than Conservative Cocktails! Join the Washington County Republican Club for our monthly happy hour event\, where you’ll have the opportunity to meet like-minded individuals\, discuss current events\, and enjoy delicious drinks and snacks. Whether you’re a registered Republican looking to get more involved or simply interested in learning more about conservative values\, we welcome you to join us for a casual evening of fun and camaraderie. So come on out and raise a glass to the future of the Republican Party!
URL:https://wcrclub.com/event/conservative-cocktails-happy-hour/
LOCATION:The Broad Axe Live\, 28 West Franklin Street\, Hagerstown\, MD\, 21740\, United States
ATTACH;FMTTYPE=image/png:https://wcrclub.com/wp-content/uploads/2023/05/Conservative-Cocktails-FB-Event-Cover.png
END:VEVENT
BEGIN:VEVENT
DTSTART;TZID=America/New_York:20230429T080000
DTEND;TZID=America/New_York:20230429T170000
DTSTAMP:20260425T122605
CREATED:20230301T152740Z
LAST-MODIFIED:20230301T153019Z
UID:211-1682755200-1682787600@wcrclub.com
SUMMARY:First Annual Republican Unity Dinner | feat. Louie Gohmert
DESCRIPTION:Join us and former Texas Congressman Louie Gohmert for an evening of Republican fellowship and unity as we start to prepare for the next election cycle. \nLouie Gohmert is a Republican politician from Texas\, United States. He was born on August 18\, 1953\, in Pittsburg\, Texas\, and grew up in the small town of Mount Pleasant. Gohmert attended Texas A&M University and graduated with a degree in history before attending Baylor University to earn his law degree. He worked as a private attorney and served as a judge in Texas’ 7th Judicial District Court before being elected to Congress in 2004. Gohmert is known for his conservative views and has been an outspoken critic of immigration policies\, gun control\, and same-sex marriage. He has also been a vocal supporter of former President Donald Trump. \nGet tickets on Eventbrite. \nBy Authority of the Washington County Republican Club PAC\, John T. McElroy\, Treasurer
URL:https://wcrclub.com/event/first-annual-republican-unity-dinner-feat-louie-gohmert/
LOCATION:MD
ATTACH;FMTTYPE=image/png:https://wcrclub.com/wp-content/uploads/2023/02/RUD-Fb-Event-Cover.png
END:VEVENT
BEGIN:VEVENT
DTSTART;TZID=America/New_York:20230419T183000
DTEND;TZID=America/New_York:20230419T203000
DTSTAMP:20260425T122605
CREATED:20230323T152528Z
LAST-MODIFIED:20230323T152528Z
UID:231-1681929000-1681936200@wcrclub.com
SUMMARY:WCRC April Meeting
DESCRIPTION:**Please note this meeting has been up to the 3rd Wednesday as to not interfere with preparations for our Republican Unity Dinner on April 29th.**
URL:https://wcrclub.com/event/wcrc-april-meeting/
LOCATION:Williamsport American Legion\, 400 American Legion Drive\, Williamsport\, MD\, 21795\, United States
END:VEVENT
BEGIN:VEVENT
DTSTART;TZID=America/New_York:20230322T183000
DTEND;TZID=America/New_York:20230322T210000
DTSTAMP:20260425T122605
CREATED:20230302T204921Z
LAST-MODIFIED:20230315T133926Z
UID:216-1679509800-1679518800@wcrclub.com
SUMMARY:March Meeting | The Natural Phenomenon of Climate Change
DESCRIPTION:***THIS MEETING WILL BE AT GOLDEN CORRAL…NOT THE AMERICAN LEGION*** \nThis month’s speaker will be presenting on the natural phenomenon of climate change verses the hoax of the religion of man-made climate change. Meeting starts at 6:30pm…see you there! \nYou do NOT need to purchase dinner to attend the meeting.
URL:https://wcrclub.com/event/march-meeting-the-natural-phenomenon-of-climate-change/
LOCATION:Golden Corral\, 17635 Valley Mall Rd\, Hagerstown\, MD\, 21740\, United States
ATTACH;FMTTYPE=image/png:https://wcrclub.com/wp-content/uploads/2023/03/Climate-Change-March-2023.png
END:VEVENT
BEGIN:VEVENT
DTSTART;TZID=America/New_York:20230222T183000
DTEND;TZID=America/New_York:20230222T203000
DTSTAMP:20260425T122605
CREATED:20230207T192540Z
LAST-MODIFIED:20230207T192540Z
UID:198-1677090600-1677097800@wcrclub.com
SUMMARY:February Meeting | Featuring Thomas Cromwell & Commissioner Derek Harvey
DESCRIPTION:Doors open at 5:45 for social hour. Meeting starts at 6:30.
URL:https://wcrclub.com/event/february-meeting-featuring-thomas-cromwell-commissioner-derek-harvey/
LOCATION:Williamsport American Legion\, 400 American Legion Drive\, Williamsport\, MD\, 21795\, United States
CATEGORIES:Monthly Meeting
ATTACH;FMTTYPE=image/png:https://wcrclub.com/wp-content/uploads/2023/02/cromwell-harvey-feb-2023.png
END:VEVENT
BEGIN:VEVENT
DTSTART;TZID=America/New_York:20230125T183000
DTEND;TZID=America/New_York:20230125T210000
DTSTAMP:20260425T122605
CREATED:20221213T055058Z
LAST-MODIFIED:20221214T175627Z
UID:176-1674671400-1674680400@wcrclub.com
SUMMARY:January Meeting
DESCRIPTION:Come to our January meeting and hear from Gina Circincion\, our State’s Attorney. She will be talking about cracking down on crime in Hagerstown and Washington County as well as laying out the initiates of the State’s Attorney’s office.
URL:https://wcrclub.com/event/january-meeting/
LOCATION:Williamsport American Legion\, 400 American Legion Drive\, Williamsport\, MD\, 21795\, United States
CATEGORIES:Monthly Meeting
ATTACH;FMTTYPE=image/jpeg:https://wcrclub.com/wp-content/uploads/2022/12/police-2167968.jpg
END:VEVENT
END:VCALENDAR