BEGIN:VCALENDAR
VERSION:2.0
PRODID:-//Washington County Republican Club - ECPv6.15.20//NONSGML v1.0//EN
CALSCALE:GREGORIAN
METHOD:PUBLISH
X-WR-CALNAME:Washington County Republican Club
X-ORIGINAL-URL:https://wcrclub.com
X-WR-CALDESC:Events for Washington County Republican Club
REFRESH-INTERVAL;VALUE=DURATION:PT1H
X-Robots-Tag:noindex
X-PUBLISHED-TTL:PT1H
BEGIN:VTIMEZONE
TZID:America/New_York
BEGIN:DAYLIGHT
TZOFFSETFROM:-0500
TZOFFSETTO:-0400
TZNAME:EDT
DTSTART:20220313T070000
END:DAYLIGHT
BEGIN:STANDARD
TZOFFSETFROM:-0400
TZOFFSETTO:-0500
TZNAME:EST
DTSTART:20221106T060000
END:STANDARD
BEGIN:DAYLIGHT
TZOFFSETFROM:-0500
TZOFFSETTO:-0400
TZNAME:EDT
DTSTART:20230312T070000
END:DAYLIGHT
BEGIN:STANDARD
TZOFFSETFROM:-0400
TZOFFSETTO:-0500
TZNAME:EST
DTSTART:20231105T060000
END:STANDARD
BEGIN:DAYLIGHT
TZOFFSETFROM:-0500
TZOFFSETTO:-0400
TZNAME:EDT
DTSTART:20240310T070000
END:DAYLIGHT
BEGIN:STANDARD
TZOFFSETFROM:-0400
TZOFFSETTO:-0500
TZNAME:EST
DTSTART:20241103T060000
END:STANDARD
END:VTIMEZONE
BEGIN:VEVENT
DTSTART;TZID=America/New_York:20230429T080000
DTEND;TZID=America/New_York:20230429T170000
DTSTAMP:20260425T120256
CREATED:20230301T152740Z
LAST-MODIFIED:20230301T153019Z
UID:211-1682755200-1682787600@wcrclub.com
SUMMARY:First Annual Republican Unity Dinner | feat. Louie Gohmert
DESCRIPTION:Join us and former Texas Congressman Louie Gohmert for an evening of Republican fellowship and unity as we start to prepare for the next election cycle. \nLouie Gohmert is a Republican politician from Texas\, United States. He was born on August 18\, 1953\, in Pittsburg\, Texas\, and grew up in the small town of Mount Pleasant. Gohmert attended Texas A&M University and graduated with a degree in history before attending Baylor University to earn his law degree. He worked as a private attorney and served as a judge in Texas’ 7th Judicial District Court before being elected to Congress in 2004. Gohmert is known for his conservative views and has been an outspoken critic of immigration policies\, gun control\, and same-sex marriage. He has also been a vocal supporter of former President Donald Trump. \nGet tickets on Eventbrite. \nBy Authority of the Washington County Republican Club PAC\, John T. McElroy\, Treasurer
URL:https://wcrclub.com/event/first-annual-republican-unity-dinner-feat-louie-gohmert/
LOCATION:MD
ATTACH;FMTTYPE=image/png:https://wcrclub.com/wp-content/uploads/2023/02/RUD-Fb-Event-Cover.png
END:VEVENT
BEGIN:VEVENT
DTSTART;TZID=America/New_York:20230419T183000
DTEND;TZID=America/New_York:20230419T203000
DTSTAMP:20260425T120256
CREATED:20230323T152528Z
LAST-MODIFIED:20230323T152528Z
UID:231-1681929000-1681936200@wcrclub.com
SUMMARY:WCRC April Meeting
DESCRIPTION:**Please note this meeting has been up to the 3rd Wednesday as to not interfere with preparations for our Republican Unity Dinner on April 29th.**
URL:https://wcrclub.com/event/wcrc-april-meeting/
LOCATION:Williamsport American Legion\, 400 American Legion Drive\, Williamsport\, MD\, 21795\, United States
END:VEVENT
BEGIN:VEVENT
DTSTART;TZID=America/New_York:20230322T183000
DTEND;TZID=America/New_York:20230322T210000
DTSTAMP:20260425T120256
CREATED:20230302T204921Z
LAST-MODIFIED:20230315T133926Z
UID:216-1679509800-1679518800@wcrclub.com
SUMMARY:March Meeting | The Natural Phenomenon of Climate Change
DESCRIPTION:***THIS MEETING WILL BE AT GOLDEN CORRAL…NOT THE AMERICAN LEGION*** \nThis month’s speaker will be presenting on the natural phenomenon of climate change verses the hoax of the religion of man-made climate change. Meeting starts at 6:30pm…see you there! \nYou do NOT need to purchase dinner to attend the meeting.
URL:https://wcrclub.com/event/march-meeting-the-natural-phenomenon-of-climate-change/
LOCATION:Golden Corral\, 17635 Valley Mall Rd\, Hagerstown\, MD\, 21740\, United States
ATTACH;FMTTYPE=image/png:https://wcrclub.com/wp-content/uploads/2023/03/Climate-Change-March-2023.png
END:VEVENT
BEGIN:VEVENT
DTSTART;TZID=America/New_York:20230222T183000
DTEND;TZID=America/New_York:20230222T203000
DTSTAMP:20260425T120256
CREATED:20230207T192540Z
LAST-MODIFIED:20230207T192540Z
UID:198-1677090600-1677097800@wcrclub.com
SUMMARY:February Meeting | Featuring Thomas Cromwell & Commissioner Derek Harvey
DESCRIPTION:Doors open at 5:45 for social hour. Meeting starts at 6:30.
URL:https://wcrclub.com/event/february-meeting-featuring-thomas-cromwell-commissioner-derek-harvey/
LOCATION:Williamsport American Legion\, 400 American Legion Drive\, Williamsport\, MD\, 21795\, United States
CATEGORIES:Monthly Meeting
ATTACH;FMTTYPE=image/png:https://wcrclub.com/wp-content/uploads/2023/02/cromwell-harvey-feb-2023.png
END:VEVENT
BEGIN:VEVENT
DTSTART;TZID=America/New_York:20230125T183000
DTEND;TZID=America/New_York:20230125T210000
DTSTAMP:20260425T120256
CREATED:20221213T055058Z
LAST-MODIFIED:20221214T175627Z
UID:176-1674671400-1674680400@wcrclub.com
SUMMARY:January Meeting
DESCRIPTION:Come to our January meeting and hear from Gina Circincion\, our State’s Attorney. She will be talking about cracking down on crime in Hagerstown and Washington County as well as laying out the initiates of the State’s Attorney’s office.
URL:https://wcrclub.com/event/january-meeting/
LOCATION:Williamsport American Legion\, 400 American Legion Drive\, Williamsport\, MD\, 21795\, United States
CATEGORIES:Monthly Meeting
ATTACH;FMTTYPE=image/jpeg:https://wcrclub.com/wp-content/uploads/2022/12/police-2167968.jpg
END:VEVENT
END:VCALENDAR